BEGIN:VCALENDAR
VERSION:2.0
PRODID:-//TYPO3/NONSGML Calendarize//EN
BEGIN:VEVENT
UID:calendarize-wildkraeuterstunde-13-1-1-1-1-1-1-1-1-1-1-1-2-1
DTSTAMP:20260421T094923Z
DTSTART:20260421T090000Z
SUMMARY:„Gesund und lecker – frische Kräuter im Frühjahr“\, mit Ge
 sine Abraham
DESCRIPTION:
X-ALT-DESC;FMTTYPE=text/html:
LOCATION:
END:VEVENT
END:VCALENDAR
