BEGIN:VCALENDAR
VERSION:2.0
PRODID:-//TYPO3/NONSGML Calendarize//EN
BEGIN:VEVENT
UID:calendarize-offene-tuer-2-1-1-20260421
DTSTAMP:20260421T080707Z
DTSTART:20260421T090000Z
DTEND:20260421T110000Z
SUMMARY:Offene Tür
DESCRIPTION:Wir laden Sie recht herzlich in unseren Stadtteiltreff ein und
  haben ein offenes Ohr für ihre Ideen\, Wünsche\, Anregungen. Gern könn
 en Sie sich auch bei uns mit Nachbarn oder Freunden auf einen Plausch bei 
 Kaffee und Kuchen treffen.   
X-ALT-DESC;FMTTYPE=text/html:<p>Wir laden Sie recht herzlich in unseren St
 adtteiltreff ein und haben ein offenes Ohr für ihre Ideen\, Wünsche\, An
 regungen. Gern können Sie sich auch bei uns mit Nachbarn oder Freunden au
 f einen Plausch bei Kaffee und Kuchen treffen.&nbsp\;<br /> &nbsp\;</p>
LOCATION:
END:VEVENT
END:VCALENDAR
