BEGIN:VCALENDAR
VERSION:2.0
PRODID:-//TYPO3/NONSGML Calendarize//EN
BEGIN:VEVENT
UID:calendarize-frauen-kreativ-nachmittag-2-1-1-20260312
DTSTAMP:20260421T102550Z
DTSTART:20260312T133000Z
DTEND:20260312T153000Z
SUMMARY:Kreativ-Nachmittag
DESCRIPTION:Unkostenbeitrag: 2\,00 €  
X-ALT-DESC;FMTTYPE=text/html:<p><em>Unkostenbeitrag: 2\,00 €</em><br /> 
 &nbsp\;</p>
LOCATION:
END:VEVENT
END:VCALENDAR
