BEGIN:VCALENDAR
VERSION:2.0
PRODID:-//TYPO3/NONSGML Calendarize//EN
BEGIN:VEVENT
UID:calendarize-englisch-lernen-1-1-1-20260420
DTSTAMP:20260423T084241Z
DTSTART:20260420T103000Z
DTEND:20260420T120000Z
SUMMARY:Englisch lernen 
DESCRIPTION:Unkostenbeitrag: 2\,00 €  zzgl. 1\,50 € Honorar  
X-ALT-DESC;FMTTYPE=text/html:<p><em>Unkostenbeitrag: 2\,00 € &nbsp\;zzgl
 . 1\,50 € Honorar</em><br /> &nbsp\;</p>
LOCATION:
END:VEVENT
END:VCALENDAR
