BEGIN:VCALENDAR
VERSION:2.0
PRODID:-//TYPO3/NONSGML Calendarize//EN
BEGIN:VEVENT
UID:calendarize-digitale-medien-workshop-fuer-smartphone-tablet-android-un
 d-pc-1-1-1-1-2-1-1-1-2-2-2-1
DTSTAMP:20260421T081357Z
DTSTART:20260416T160000Z
SUMMARY:Versammlung des Imkervereins
DESCRIPTION:
X-ALT-DESC;FMTTYPE=text/html:
LOCATION:
END:VEVENT
END:VCALENDAR
