BEGIN:VCALENDAR
VERSION:2.0
PRODID:-//TYPO3/NONSGML Calendarize//EN
BEGIN:VEVENT
UID:calendarize-gesellig-am-nachmittag-4-1-1-1-1-2-2-1-1-1
DTSTAMP:20260423T084415Z
DTSTART:20260312T130000Z
SUMMARY:Frauentags-Cafe
DESCRIPTION:
X-ALT-DESC;FMTTYPE=text/html:
LOCATION:
END:VEVENT
END:VCALENDAR
